BEGIN:VCALENDAR
VERSION:2.0
PRODID:spatie/icalendar-generator
DESCRIPTION:Veranstaltungen von Welpenschule Kuhrt
X-WR-CALDESC:Veranstaltungen von Welpenschule Kuhrt
REFRESH-INTERVAL;VALUE=DURATION:PT1440M
X-PUBLISHED-TTL:PT1440M
BEGIN:VTIMEZONE
TZID:Europe/Berlin
BEGIN:STANDARD
DTSTART:20231029T030000Z
TZOFFSETFROM:+0200
TZOFFSETTO:+0100
END:STANDARD
BEGIN:DAYLIGHT
DTSTART:20240331T020000Z
TZOFFSETFROM:+0100
TZOFFSETTO:+0200
END:DAYLIGHT
BEGIN:STANDARD
DTSTART:20241027T030000Z
TZOFFSETFROM:+0200
TZOFFSETTO:+0100
END:STANDARD
END:VTIMEZONE
BEGIN:VTIMEZONE
TZID:UTC
BEGIN:STANDARD
DTSTART:20250726T015846Z
TZOFFSETFROM:+0000
TZOFFSETTO:+0000
END:STANDARD
END:VTIMEZONE
BEGIN:VEVENT
UID:1812-50
DTSTAMP:20260422T015846Z
SUMMARY:Feiertag! Die Hundeschule hat geschlossen!
LOCATION:
ORGANIZER;CN=admin:MAILTO:media@edu-technik.com
DTSTART;TZID=Europe/Berlin;VALUE=DATE:20240509
DTEND;TZID=Europe/Berlin;VALUE=DATE:20240510
X-ALT-DESC;FMTTYPE=TEXT/HTML:
CATEGORIES:Termin
URL;VALUE=URI:https://welpenschule-kuhrt.de/mc-events/feiertag-die-hundesch
 ule-hat-geschlossen-3/
METHOD:PUBLISH
END:VEVENT
END:VCALENDAR