BEGIN:VCALENDAR
VERSION:2.0
PRODID:spatie/icalendar-generator
DESCRIPTION:Veranstaltungen von Welpenschule Kuhrt
X-WR-CALDESC:Veranstaltungen von Welpenschule Kuhrt
REFRESH-INTERVAL;VALUE=DURATION:PT1440M
X-PUBLISHED-TTL:PT1440M
BEGIN:VTIMEZONE
TZID:Europe/Berlin
BEGIN:DAYLIGHT
DTSTART:20250330T020000Z
TZOFFSETFROM:+0100
TZOFFSETTO:+0200
END:DAYLIGHT
BEGIN:STANDARD
DTSTART:20251026T030000Z
TZOFFSETFROM:+0200
TZOFFSETTO:+0100
END:STANDARD
BEGIN:DAYLIGHT
DTSTART:20260329T020000Z
TZOFFSETFROM:+0100
TZOFFSETTO:+0200
END:DAYLIGHT
END:VTIMEZONE
BEGIN:VTIMEZONE
TZID:UTC
BEGIN:STANDARD
DTSTART:20250725T174358Z
TZOFFSETFROM:+0000
TZOFFSETTO:+0000
END:STANDARD
END:VTIMEZONE
BEGIN:VEVENT
UID:2092-75
DTSTAMP:20260421T174358Z
SUMMARY:Training Hundeschule fällt heute aus!
LOCATION:
ORGANIZER;CN=Peter Kuhrt:MAILTO:info@welpenschule-kuhrt.de
DTSTART;TZID=Europe/Berlin;VALUE=DATE:20251101
DTEND;TZID=Europe/Berlin;VALUE=DATE:20251102
X-ALT-DESC;FMTTYPE=TEXT/HTML:Training fällt heute aus! Die Hundeschule hat
  geschlossen!
CATEGORIES:Termin
URL;VALUE=URI:https://welpenschule-kuhrt.de/mc-events/training-hundeschule-
 faellt-heute-aus/
METHOD:PUBLISH
END:VEVENT
END:VCALENDAR