BEGIN:VCALENDAR
VERSION:2.0
PRODID:spatie/icalendar-generator
DESCRIPTION:Veranstaltungen von Welpenschule Kuhrt
X-WR-CALDESC:Veranstaltungen von Welpenschule Kuhrt
REFRESH-INTERVAL;VALUE=DURATION:PT1440M
X-PUBLISHED-TTL:PT1440M
BEGIN:VTIMEZONE
TZID:Europe/Berlin
BEGIN:DAYLIGHT
DTSTART:20250330T020000Z
TZOFFSETFROM:+0100
TZOFFSETTO:+0200
END:DAYLIGHT
BEGIN:STANDARD
DTSTART:20251026T030000Z
TZOFFSETFROM:+0200
TZOFFSETTO:+0100
END:STANDARD
END:VTIMEZONE
BEGIN:VTIMEZONE
TZID:UTC
BEGIN:STANDARD
DTSTART:20250725T213659Z
TZOFFSETFROM:+0000
TZOFFSETTO:+0000
END:STANDARD
END:VTIMEZONE
BEGIN:VEVENT
UID:2099-16
DTSTAMP:20260421T213659Z
SUMMARY:Leistungstraining
LOCATION:
ORGANIZER;CN=admin:MAILTO:media@edu-technik.com
DTSTART;TZID=Europe/Berlin:20250913T140000
DTEND;TZID=Europe/Berlin:20250913T150000
X-ALT-DESC;FMTTYPE=TEXT/HTML:Gruppentraining für sehr gute\, weit fortgesc
 hrittene Teams. Das Erlernte wird durch das Training perfektioniert und au
 f hohem Stand gehalten.
CATEGORIES:Termin
URL;VALUE=URI:https://welpenschule-kuhrt.de/mc-events/leistungstraining-4/
METHOD:PUBLISH
END:VEVENT
END:VCALENDAR